BEGIN:VCALENDAR
VERSION:2.0
PRODID:-//jEvents 2.0 for Joomla//EN
CALSCALE:GREGORIAN
METHOD:PUBLISH
BEGIN:VEVENT
UID:609a04a7f825a93ae31ef29dcaa6efef
CATEGORIES:Club Calendar
CREATED:20260420T115836
SUMMARY:Beach Activities and Morning Coffee Break!
LOCATION:0
DESCRIPTION:The details of this event are only visible to logged-in members of our club
 .  
DTSTAMP:20260422T145813
DTSTART:20260513T100000
SEQUENCE:0
TRANSP:OPAQUE
END:VEVENT
END:VCALENDAR