BEGIN:VCALENDAR
VERSION:2.0
PRODID:-//jEvents 2.0 for Joomla//EN
CALSCALE:GREGORIAN
METHOD:PUBLISH
BEGIN:VEVENT
UID:4caa847f1bf44bc023e74642fa0aff6a
CATEGORIES:Club Calendar
CREATED:20190803T095647
SUMMARY:Talk & Walk - language exchange
LOCATION:0
DESCRIPTION:The details of this event are only visible to logged-in members of our club
 .  
DTSTAMP:20260425T001532
DTSTART:20190923T100000
SEQUENCE:0
TRANSP:OPAQUE
END:VEVENT
END:VCALENDAR