BEGIN:VCALENDAR
VERSION:2.0
PRODID:-//jEvents 2.0 for Joomla//EN
CALSCALE:GREGORIAN
METHOD:PUBLISH
BEGIN:VEVENT
UID:b4500a927b78ea11cb3000b9f969a707
CATEGORIES:Club Calendar
CREATED:20190805T142510
SUMMARY:Board Meeting
LOCATION:0
DESCRIPTION:The details of this event are only visible to logged-in members of our club
 .  
DTSTAMP:20260425T002045
DTSTART:20190905T100000
DTEND:20190905T000000
SEQUENCE:0
TRANSP:OPAQUE
END:VEVENT
END:VCALENDAR