BEGIN:VCALENDAR
VERSION:2.0
PRODID:-//jEvents 2.0 for Joomla//EN
CALSCALE:GREGORIAN
METHOD:PUBLISH
BEGIN:VEVENT
UID:93296c73e954ab8aef4d4cea79b1ae22
CATEGORIES:Club Calendar
CREATED:20190808T105815
SUMMARY:Writers' Bloc
LOCATION:0
DESCRIPTION:The details of this event are only visible to logged-in members of our club
 .  
DTSTAMP:20260425T001547
DTSTART:20190917T143000
SEQUENCE:0
TRANSP:OPAQUE
END:VEVENT
END:VCALENDAR