BEGIN:VCALENDAR
VERSION:2.0
PRODID:-//jEvents 2.0 for Joomla//EN
CALSCALE:GREGORIAN
METHOD:PUBLISH
BEGIN:VEVENT
UID:af2c84b6f876d8d6b81a440243ff0819
CATEGORIES:Club Calendar
CREATED:20190808T110121
SUMMARY:Walk with Maria around St. Guiraud
LOCATION:0
DESCRIPTION:The details of this event are only visible to logged-in members of our club
 .  
DTSTAMP:20260425T002020
DTSTART:20191005T095000
SEQUENCE:0
TRANSP:OPAQUE
END:VEVENT
END:VCALENDAR