BEGIN:VCALENDAR
VERSION:2.0
PRODID:-//jEvents 2.0 for Joomla//EN
CALSCALE:GREGORIAN
METHOD:PUBLISH
BEGIN:VEVENT
UID:8c0607cc91e7e26cf9194f98aec5be81
CATEGORIES:Club Calendar
CREATED:20190808T130536
SUMMARY: Cultural Outing MO.CO Hôtel des Collections  Montpelier
LOCATION:0
DESCRIPTION:The details of this event are only visible to logged-in members of our club
 .  
DTSTAMP:20260425T002046
DTSTART:20190919T123000
SEQUENCE:0
TRANSP:OPAQUE
END:VEVENT
END:VCALENDAR