BEGIN:VCALENDAR
VERSION:2.0
PRODID:-//jEvents 2.0 for Joomla//EN
CALSCALE:GREGORIAN
METHOD:PUBLISH
BEGIN:VEVENT
UID:024e28b1e47e6b53c05582d595f1ff03
CATEGORIES:Club Calendar
CREATED:20190815T104350
SUMMARY:FAWCO BOOK SALE
LOCATION:0
DESCRIPTION:The details of this event are only visible to logged-in members of our club
 .  
DTSTAMP:20260424T210521
DTSTART:20190921T130000
SEQUENCE:0
TRANSP:OPAQUE
END:VEVENT
END:VCALENDAR