BEGIN:VCALENDAR
VERSION:2.0
PRODID:-//jEvents 2.0 for Joomla//EN
CALSCALE:GREGORIAN
METHOD:PUBLISH
BEGIN:VEVENT
UID:950e93a7d466b86cd1067a4e31a6ab4c
CATEGORIES:Club Calendar
CREATED:20190816T103805
SUMMARY:Welcome back Apéro
LOCATION:0
DESCRIPTION:The details of this event are only visible to logged-in members of our club
 .  
DTSTAMP:20260425T002101
DTSTART:20190928T190000
SEQUENCE:0
TRANSP:OPAQUE
END:VEVENT
END:VCALENDAR