BEGIN:VCALENDAR
VERSION:2.0
PRODID:-//jEvents 2.0 for Joomla//EN
CALSCALE:GREGORIAN
METHOD:PUBLISH
BEGIN:VEVENT
UID:30514a9df9cabaa40e8a49b86f20b532
CATEGORIES:Club Calendar
CREATED:20190816T114115
SUMMARY:Board Meeting
LOCATION:0
DESCRIPTION:The details of this event are only visible to logged-in members of our club
 .  
DTSTAMP:20260425T040810
DTSTART:20191010T100000
DTEND:20191010T000000
SEQUENCE:0
TRANSP:OPAQUE
END:VEVENT
END:VCALENDAR