BEGIN:VCALENDAR
VERSION:2.0
PRODID:-//jEvents 2.0 for Joomla//EN
CALSCALE:GREGORIAN
METHOD:PUBLISH
BEGIN:VEVENT
UID:e95f2f2e68c89194167dac31cef598a2
CATEGORIES:Club Calendar
CREATED:20190916T084252
SUMMARY:Visit of Botanical Garden in Montpellier
LOCATION:0
DESCRIPTION:The details of this event are only visible to logged-in members of our club
 .  
DTSTAMP:20260425T040658
DTSTART:20191010T140000
SEQUENCE:0
TRANSP:OPAQUE
END:VEVENT
END:VCALENDAR