BEGIN:VCALENDAR
VERSION:2.0
PRODID:-//jEvents 2.0 for Joomla//EN
CALSCALE:GREGORIAN
METHOD:PUBLISH
BEGIN:VEVENT
UID:a81249a9e3315a387c98f102dd9303dc
CATEGORIES:Club Calendar
CREATED:20190916T092639
SUMMARY:Garden Plant Swap and Tea
LOCATION:0
DESCRIPTION:The details of this event are only visible to logged-in members of our club
 .  
DTSTAMP:20260425T040102
DTSTART:20191030T143000
SEQUENCE:0
TRANSP:OPAQUE
END:VEVENT
END:VCALENDAR