BEGIN:VCALENDAR
VERSION:2.0
PRODID:-//jEvents 2.0 for Joomla//EN
CALSCALE:GREGORIAN
METHOD:PUBLISH
BEGIN:VEVENT
UID:f7ac04a9f37e8acc70d14057fb365110
CATEGORIES:Club Calendar
CREATED:20190920T154949
SUMMARY:Exhibition Fernando Agostinho
LOCATION:0
DESCRIPTION:The details of this event are only visible to logged-in members of our club
 .  
DTSTAMP:20260425T040329
DTSTART:20191031T140000
SEQUENCE:0
TRANSP:OPAQUE
END:VEVENT
END:VCALENDAR