BEGIN:VCALENDAR
VERSION:2.0
PRODID:-//jEvents 2.0 for Joomla//EN
CALSCALE:GREGORIAN
METHOD:PUBLISH
BEGIN:VEVENT
UID:f705bf5f880221597e72ea7f8d57e771
CATEGORIES:Club Calendar
CREATED:20190927T135759
SUMMARY:FAWCO Book sale
LOCATION:0
DESCRIPTION:The details of this event are only visible to logged-in members of our club
 .  
DTSTAMP:20260425T041249
DTSTART:20191012T130000
SEQUENCE:0
TRANSP:OPAQUE
END:VEVENT
END:VCALENDAR