BEGIN:VCALENDAR
VERSION:2.0
PRODID:-//jEvents 2.0 for Joomla//EN
CALSCALE:GREGORIAN
METHOD:PUBLISH
BEGIN:VEVENT
UID:b95bc81a259a048a27b68b714b03b10d
CATEGORIES:Club Calendar
CREATED:20191005T164143
SUMMARY:New Members' Tea
LOCATION:0
DESCRIPTION:The details of this event are only visible to logged-in members of our club
 .  
DTSTAMP:20260425T041249
DTSTART:20191017T140000
SEQUENCE:0
TRANSP:OPAQUE
END:VEVENT
END:VCALENDAR