BEGIN:VCALENDAR
VERSION:2.0
PRODID:-//jEvents 2.0 for Joomla//EN
CALSCALE:GREGORIAN
METHOD:PUBLISH
BEGIN:VEVENT
UID:04734416a65668fbb5ea5956567d4621
CATEGORIES:Club Calendar
CREATED:20191014T071934
SUMMARY:Talk & Walk
LOCATION:0
DESCRIPTION:The details of this event are only visible to logged-in members of our club
 .  
DTSTAMP:20260425T034515
DTSTART:20191014T100000
SEQUENCE:0
TRANSP:OPAQUE
END:VEVENT
END:VCALENDAR