BEGIN:VCALENDAR
VERSION:2.0
PRODID:-//jEvents 2.0 for Joomla//EN
CALSCALE:GREGORIAN
METHOD:PUBLISH
BEGIN:VEVENT
UID:ef77fc470d84654c4c617f9c8693e0f5
CATEGORIES:Club Calendar
CREATED:20191016T145959
SUMMARY:Talk & Sit - A Language exchange
LOCATION:0
DESCRIPTION:The details of this event are only visible to logged-in members of our club
 .  
DTSTAMP:20260425T035054
DTSTART:20191102T140000
DTEND:20191102T160000
SEQUENCE:0
TRANSP:OPAQUE
END:VEVENT
END:VCALENDAR