BEGIN:VCALENDAR
VERSION:2.0
PRODID:-//jEvents 2.0 for Joomla//EN
CALSCALE:GREGORIAN
METHOD:PUBLISH
BEGIN:VEVENT
UID:f33d5f07991fcb5bb82e95b2ac3a4958
CATEGORIES:Club Calendar
CREATED:20260301T151231
SUMMARY:Walk & Resto in Palavas
LOCATION:0
DESCRIPTION:The details of this event are only visible to logged-in members of our club
 .  
DTSTAMP:20260426T001716
DTSTART:20260429T103000
SEQUENCE:0
TRANSP:OPAQUE
END:VEVENT
END:VCALENDAR