BEGIN:VCALENDAR
VERSION:2.0
PRODID:-//jEvents 2.0 for Joomla//EN
CALSCALE:GREGORIAN
METHOD:PUBLISH
BEGIN:VEVENT
UID:b0b658d0343b47af214d6475fc12aa20
CATEGORIES:Club Calendar
CREATED:20260420T125328
SUMMARY:Beach Activities and Morning Coffee Break!
LOCATION:0
DESCRIPTION:The details of this event are only visible to logged-in members of our club
 .  
DTSTAMP:20260426T003252
DTSTART:20260527T100000
SEQUENCE:0
TRANSP:OPAQUE
END:VEVENT
END:VCALENDAR