BEGIN:VCALENDAR
VERSION:2.0
PRODID:-//jEvents 2.0 for Joomla//EN
CALSCALE:GREGORIAN
METHOD:PUBLISH
BEGIN:VEVENT
UID:85ecc7be77b0e93831c99caa073c4071
CATEGORIES:Club Calendar
CREATED:20221024T074139
SUMMARY:Book Group
LOCATION:0
DESCRIPTION:The details of this event are only visible to logged-in members of our club
 .  
DTSTAMP:20260421T181610
DTSTART:20231013T103000
DTEND:20231013T000000
SEQUENCE:0
TRANSP:OPAQUE
END:VEVENT
END:VCALENDAR