BEGIN:VCALENDAR
VERSION:2.0
PRODID:-//jEvents 2.0 for Joomla//EN
CALSCALE:GREGORIAN
METHOD:PUBLISH
BEGIN:VEVENT
UID:53df1c436ec3957a9711cd2f779e5656
CATEGORIES:Club Calendar
CREATED:20230704T133316
SUMMARY:Knitting, Crocheting, Embroidery  
LOCATION:0
DESCRIPTION:The details of this event are only visible to logged-in members of our club
 .  
DTSTAMP:20260421T181717
DTSTART:20231012T143000
SEQUENCE:0
TRANSP:OPAQUE
END:VEVENT
END:VCALENDAR