BEGIN:VCALENDAR
VERSION:2.0
PRODID:-//jEvents 2.0 for Joomla//EN
CALSCALE:GREGORIAN
METHOD:PUBLISH
BEGIN:VEVENT
UID:ab06963ce3d455e7c5f2e7c6c58824b9
CATEGORIES:Club Calendar
CREATED:20230911T114444
SUMMARY:Talk & Sit
LOCATION:0
DESCRIPTION:The details of this event are only visible to logged-in members of our club
 .  
DTSTAMP:20260421T181636
DTSTART:20231005T140000
SEQUENCE:0
TRANSP:OPAQUE
END:VEVENT
END:VCALENDAR