BEGIN:VCALENDAR
VERSION:2.0
PRODID:-//jEvents 2.0 for Joomla//EN
CALSCALE:GREGORIAN
METHOD:PUBLISH
BEGIN:VEVENT
UID:0c965e331b5f6dcb73e42c31013cd32d
CATEGORIES:Club Calendar
CREATED:20230914T090224
SUMMARY:Writers'Bloc
LOCATION:0
DESCRIPTION:The details of this event are only visible to logged-in members of our club
 .  
DTSTAMP:20260421T181534
DTSTART:20231019T133000
SEQUENCE:0
TRANSP:OPAQUE
END:VEVENT
END:VCALENDAR