BEGIN:VCALENDAR
VERSION:2.0
PRODID:-//jEvents 2.0 for Joomla//EN
CALSCALE:GREGORIAN
METHOD:PUBLISH
BEGIN:VEVENT
UID:aafaadb2fae72a951e8792550b607b35
CATEGORIES:Club Calendar
CREATED:20230914T090419
SUMMARY:Walk, Picnic and Museum in Ambrussum
LOCATION:0
DESCRIPTION:The details of this event are only visible to logged-in members of our club
 .  
DTSTAMP:20260421T181535
DTSTART:20231027T103000
DTEND:20231027T170000
SEQUENCE:0
TRANSP:OPAQUE
END:VEVENT
END:VCALENDAR