BEGIN:VCALENDAR
VERSION:2.0
PRODID:-//jEvents 2.0 for Joomla//EN
CALSCALE:GREGORIAN
METHOD:PUBLISH
BEGIN:VEVENT
UID:4c03b0eae985e227e151cc76cafc2f32
CATEGORIES:Club Calendar
CREATED:20230914T090602
SUMMARY: Games Board and Lending Library
LOCATION:0
DESCRIPTION:The details of this event are only visible to logged-in members of our club
 .  
DTSTAMP:20260421T181839
DTSTART:20231002T140000
SEQUENCE:0
TRANSP:OPAQUE
END:VEVENT
END:VCALENDAR