BEGIN:VCALENDAR
VERSION:2.0
PRODID:-//jEvents 2.0 for Joomla//EN
CALSCALE:GREGORIAN
METHOD:PUBLISH
BEGIN:VEVENT
UID:98dc946175ca3c77ce6116bd20318a4c
CATEGORIES:Club Calendar
CREATED:20230914T091256
SUMMARY:Beach Babes: Back to Le Petit Travers
LOCATION:0
DESCRIPTION:The details of this event are only visible to logged-in members of our club
 .  
DTSTAMP:20260421T182126
DTSTART:20231004T100000
DTEND:20231004T000000
SEQUENCE:0
TRANSP:OPAQUE
END:VEVENT
END:VCALENDAR