BEGIN:VCALENDAR
VERSION:2.0
PRODID:-//jEvents 2.0 for Joomla//EN
CALSCALE:GREGORIAN
METHOD:PUBLISH
BEGIN:VEVENT
UID:e53514bbd8738af8ec568fd3f101bd14
CATEGORIES:Club Calendar
CREATED:20230914T091908
SUMMARY:Beach Babes's walk to Le Petit Travers
LOCATION:0
DESCRIPTION:The details of this event are only visible to logged-in members of our club
 .  
DTSTAMP:20260421T183053
DTSTART:20231018T100000
DTEND:20231018T000000
SEQUENCE:0
TRANSP:OPAQUE
END:VEVENT
END:VCALENDAR