BEGIN:VCALENDAR
VERSION:2.0
PRODID:-//jEvents 2.0 for Joomla//EN
CALSCALE:GREGORIAN
METHOD:PUBLISH
BEGIN:VEVENT
UID:f1fbdca34823520c9f6a45e48ad84016
CATEGORIES:Club Calendar
CREATED:20230918T070650
SUMMARY:Coffee Chat
LOCATION:0
DESCRIPTION:The details of this event are only visible to logged-in members of our club
 .  
DTSTAMP:20260421T181610
DTSTART:20231009T100000
SEQUENCE:0
TRANSP:OPAQUE
END:VEVENT
END:VCALENDAR