BEGIN:VCALENDAR
VERSION:2.0
PRODID:-//jEvents 2.0 for Joomla//EN
CALSCALE:GREGORIAN
METHOD:PUBLISH
BEGIN:VEVENT
UID:55af1e6d544e645719ee8802ee42903b
CATEGORIES:Club Calendar
CREATED:20230918T070819
SUMMARY:Coffee Chat
LOCATION:0
DESCRIPTION:The details of this event are only visible to logged-in members of our club
 .  
DTSTAMP:20260421T112244
DTSTART:20231211T100000
SEQUENCE:0
TRANSP:OPAQUE
END:VEVENT
END:VCALENDAR