BEGIN:VCALENDAR
VERSION:2.0
PRODID:-//jEvents 2.0 for Joomla//EN
CALSCALE:GREGORIAN
METHOD:PUBLISH
BEGIN:VEVENT
UID:6d8bcd50e694549e7b48ae435e46c720
CATEGORIES:Club Calendar
CREATED:20230920T122001
SUMMARY:walking group - Carrières de Beaulieu
LOCATION:0
DESCRIPTION:The details of this event are only visible to logged-in members of our club
 .  
DTSTAMP:20260421T183746
DTSTART:20231007T140000
SEQUENCE:0
TRANSP:OPAQUE
END:VEVENT
END:VCALENDAR