BEGIN:VCALENDAR
VERSION:2.0
PRODID:-//jEvents 2.0 for Joomla//EN
CALSCALE:GREGORIAN
METHOD:PUBLISH
BEGIN:VEVENT
UID:f3c6e0ff3172d1f971a29627444fa88a
CATEGORIES:Club Calendar
CREATED:20230923T152004
SUMMARY:Book Group- 
LOCATION:0
DESCRIPTION:The details of this event are only visible to logged-in members of our club
 .  
DTSTAMP:20260421T144350
DTSTART:20231110T103000
DTEND:20231110T000000
SEQUENCE:0
TRANSP:OPAQUE
END:VEVENT
END:VCALENDAR