BEGIN:VCALENDAR
VERSION:2.0
PRODID:-//jEvents 2.0 for Joomla//EN
CALSCALE:GREGORIAN
METHOD:PUBLISH
BEGIN:VEVENT
UID:6bdd31cca3f5b034dd14222bea1fd873
CATEGORIES:Club Calendar
CREATED:20230924T073801
SUMMARY:Book Group- Asymmetry by Lisa Halliday
LOCATION:0
DESCRIPTION:The details of this event are only visible to logged-in members of our club
 .  
DTSTAMP:20260421T114008
DTSTART:20231208T103000
DTEND:20231208T000000
SEQUENCE:0
TRANSP:OPAQUE
END:VEVENT
END:VCALENDAR