BEGIN:VCALENDAR
VERSION:2.0
PRODID:-//jEvents 2.0 for Joomla//EN
CALSCALE:GREGORIAN
METHOD:PUBLISH
BEGIN:VEVENT
UID:d85d2e9c854e8555e77dc19b2ff30356
CATEGORIES:Club Calendar
CREATED:20231003T125731
SUMMARY:Thanksgiving
LOCATION:0
DESCRIPTION:The details of this event are only visible to logged-in members of our club
 .  
DTSTAMP:20260421T113835
DTSTART:20231126T000000
DTEND:20231126T170000
SEQUENCE:0
TRANSP:OPAQUE
END:VEVENT
END:VCALENDAR