BEGIN:VCALENDAR
VERSION:2.0
PRODID:-//jEvents 2.0 for Joomla//EN
CALSCALE:GREGORIAN
METHOD:PUBLISH
BEGIN:VEVENT
UID:3cdf1c63a4852bbababf558097e47783
CATEGORIES:Club Calendar
CREATED:20231010T093607
SUMMARY:Visit Halles du Verre and Crêperie Lunch
LOCATION:0
DESCRIPTION:The details of this event are only visible to logged-in members of our club
 .  
DTSTAMP:20260421T144017
DTSTART:20231118T000000
DTEND:20231118T170000
SEQUENCE:0
TRANSP:OPAQUE
END:VEVENT
END:VCALENDAR