BEGIN:VCALENDAR
VERSION:2.0
PRODID:-//jEvents 2.0 for Joomla//EN
CALSCALE:GREGORIAN
METHOD:PUBLISH
BEGIN:VEVENT
UID:f337c8ef30b69b42d43c777f637ce134
CATEGORIES:Club Calendar
CREATED:20231021T081745
SUMMARY:Beach Babes's walk - Le Grand Travers
LOCATION:0
DESCRIPTION:The details of this event are only visible to logged-in members of our club
 .  
DTSTAMP:20260421T145120
DTSTART:20231108T100000
DTEND:20231108T000000
SEQUENCE:0
TRANSP:OPAQUE
END:VEVENT
END:VCALENDAR