BEGIN:VCALENDAR
VERSION:2.0
PRODID:-//jEvents 2.0 for Joomla//EN
CALSCALE:GREGORIAN
METHOD:PUBLISH
BEGIN:VEVENT
UID:1822006bb53443195dc4ae0a4841367c
CATEGORIES:Club Calendar
CREATED:20231030T094553
SUMMARY:Beach Babes' walk - Le Grand Travers
LOCATION:0
DESCRIPTION:The details of this event are only visible to logged-in members of our club
 .  
DTSTAMP:20260421T144212
DTSTART:20231122T100000
DTEND:20231122T000000
SEQUENCE:0
TRANSP:OPAQUE
END:VEVENT
END:VCALENDAR