BEGIN:VCALENDAR
VERSION:2.0
PRODID:-//jEvents 2.0 for Joomla//EN
CALSCALE:GREGORIAN
METHOD:PUBLISH
BEGIN:VEVENT
UID:b5cde83a1f335ab5bba7792a4c80cfb1
CATEGORIES:Club Calendar
CREATED:20231102T093546
SUMMARY:Beach Babes's walk - Le Grand Travers
LOCATION:0
DESCRIPTION:The details of this event are only visible to logged-in members of our club
 .  
DTSTAMP:20260421T114009
DTSTART:20231206T100000
DTEND:20231206T000000
SEQUENCE:0
TRANSP:OPAQUE
END:VEVENT
END:VCALENDAR