BEGIN:VCALENDAR
VERSION:2.0
PRODID:-//jEvents 2.0 for Joomla//EN
CALSCALE:GREGORIAN
METHOD:PUBLISH
BEGIN:VEVENT
UID:c784480b49cbbc90fec59373d387660c
CATEGORIES:Club Calendar
CREATED:20231102T103313
SUMMARY:Talk & Sit
LOCATION:0
DESCRIPTION:The details of this event are only visible to logged-in members of our club
 .  
DTSTAMP:20260421T112742
DTSTART:20231207T140000
SEQUENCE:0
TRANSP:OPAQUE
END:VEVENT
END:VCALENDAR