BEGIN:VCALENDAR
VERSION:2.0
PRODID:-//jEvents 2.0 for Joomla//EN
CALSCALE:GREGORIAN
METHOD:PUBLISH
BEGIN:VEVENT
UID:39016d6a0840d6e1569be70c17bc3dcf
CATEGORIES:Club Calendar
CREATED:20231102T110049
SUMMARY:Walk and visit of the Provencal Crêche
LOCATION:0
DESCRIPTION:The details of this event are only visible to logged-in members of our club
 .  
DTSTAMP:20260421T113808
DTSTART:20231216T140000
SEQUENCE:0
TRANSP:OPAQUE
END:VEVENT
END:VCALENDAR