BEGIN:VCALENDAR
VERSION:2.0
PRODID:-//jEvents 2.0 for Joomla//EN
CALSCALE:GREGORIAN
METHOD:PUBLISH
BEGIN:VEVENT
UID:81860fdd931127ba1c229803b8408cdc
CATEGORIES:Club Calendar
CREATED:20231111T174151
SUMMARY:Beach Walk and Coffee Break at Cathedrale Maguelone !
LOCATION:0
DESCRIPTION:The details of this event are only visible to logged-in members of our club
 .  
DTSTAMP:20260421T113819
DTSTART:20231220T100000
SEQUENCE:0
TRANSP:OPAQUE
END:VEVENT
END:VCALENDAR