BEGIN:VCALENDAR
VERSION:2.0
PRODID:-//jEvents 2.0 for Joomla//EN
CALSCALE:GREGORIAN
METHOD:PUBLISH
BEGIN:VEVENT
UID:c36e77bbb761464935fb47a7db7d6533
CATEGORIES:Club Calendar
CREATED:20231113T072422
SUMMARY:Writers'Bloc
LOCATION:0
DESCRIPTION:The details of this event are only visible to logged-in members of our club
 .  
DTSTAMP:20260421T112941
DTSTART:20231213T133000
SEQUENCE:0
TRANSP:OPAQUE
END:VEVENT
END:VCALENDAR