BEGIN:VCALENDAR
VERSION:2.0
PRODID:-//jEvents 2.0 for Joomla//EN
CALSCALE:GREGORIAN
METHOD:PUBLISH
BEGIN:VEVENT
UID:3673275fc6e9efac9f277a912a61cb99
CATEGORIES:Club Calendar
CREATED:20231113T075222
SUMMARY:Book Group - A Happy Death by Albert CAMUS
LOCATION:0
DESCRIPTION:The details of this event are only visible to logged-in members of our club
 .  
DTSTAMP:20260421T081900
DTSTART:20240308T103000
SEQUENCE:0
TRANSP:OPAQUE
END:VEVENT
END:VCALENDAR