BEGIN:VCALENDAR
VERSION:2.0
PRODID:-//jEvents 2.0 for Joomla//EN
CALSCALE:GREGORIAN
METHOD:PUBLISH
BEGIN:VEVENT
UID:163cef66e40b0518dbf6b68b168c1df7
CATEGORIES:Club Calendar
CREATED:20231122T124443
SUMMARY:Cook & Eat
LOCATION:0
DESCRIPTION:The details of this event are only visible to logged-in members of our club
 .  
DTSTAMP:20260421T114115
DTSTART:20231215T093000
SEQUENCE:0
TRANSP:OPAQUE
END:VEVENT
END:VCALENDAR