BEGIN:VCALENDAR
VERSION:2.0
PRODID:-//jEvents 2.0 for Joomla//EN
CALSCALE:GREGORIAN
METHOD:PUBLISH
BEGIN:VEVENT
UID:328f44cec4e4ac8c5145859e130fb565
CATEGORIES:Club Calendar
CREATED:20231201T175012
SUMMARY:Holiday Tea and Cookie Exchange!
LOCATION:0
DESCRIPTION:The details of this event are only visible to logged-in members of our club
 .  
DTSTAMP:20260421T114055
DTSTART:20231219T140000
DTEND:20231219T170000
SEQUENCE:0
TRANSP:OPAQUE
END:VEVENT
END:VCALENDAR