BEGIN:VCALENDAR
VERSION:2.0
PRODID:-//jEvents 2.0 for Joomla//EN
CALSCALE:GREGORIAN
METHOD:PUBLISH
BEGIN:VEVENT
UID:5dddd6ceba59efbef3c5ce56cf118da8
CATEGORIES:Club Calendar
CREATED:20240527T085429
SUMMARY:Walk to Aigoual
LOCATION:0
DESCRIPTION:The details of this event are only visible to logged-in members of our club
 .  
DTSTAMP:20260421T100255
DTSTART:20240712T090000
SEQUENCE:0
TRANSP:OPAQUE
END:VEVENT
END:VCALENDAR